BEGIN:VCALENDAR
VERSION:2.0
PRODID:-//Cadence Education - ECPv6.15.17.1//NONSGML v1.0//EN
CALSCALE:GREGORIAN
METHOD:PUBLISH
X-WR-CALNAME:Cadence Education
X-ORIGINAL-URL:https://www.cadence-education.com
X-WR-CALDESC:Events for Cadence Education
REFRESH-INTERVAL;VALUE=DURATION:PT1H
X-Robots-Tag:noindex
X-PUBLISHED-TTL:PT1H
BEGIN:VTIMEZONE
TZID:America/Phoenix
BEGIN:STANDARD
TZOFFSETFROM:-0700
TZOFFSETTO:-0700
TZNAME:MST
DTSTART:20160101T000000
END:STANDARD
END:VTIMEZONE
BEGIN:VEVENT
DTSTART;VALUE=DATE:20170907
DTEND;VALUE=DATE:20170908
DTSTAMP:20260419T091915
CREATED:20170907T180237Z
LAST-MODIFIED:20170907T180237Z
UID:4141-1504742400-1504828799@www.cadence-education.com
SUMMARY:Grand-Friends Day
DESCRIPTION:Our schools celebrated Grand-Friends Day today! This special activity was developed in conjunction with our Kind Child program as a community outreach activity. This event is designed to honor all the seniors in our activity: grandparents\, local senior center members\,… To learn more about our unique Kind Child program\, find and contact a school near you at https://lnkd.in/edFKdFW.
URL:https://www.cadence-education.com/event/grand-friends-day/
END:VEVENT
BEGIN:VEVENT
DTSTART;TZID=America/Phoenix:20180111T160000
DTEND;TZID=America/Phoenix:20180111T190000
DTSTAMP:20260419T091915
CREATED:20180109T220611Z
LAST-MODIFIED:20180109T222558Z
UID:4226-1515686400-1515697200@www.cadence-education.com
SUMMARY:Science Fair & Open House
DESCRIPTION:You’re invited to our Open House this Thursday\, January 11th! \n\nExplore our classrooms and learn about our comprehensive curriculum\nLearn how our Kind Child approach nurtures and strengthens social skills and character development\nFind out how our Kindergarten Club helps with the important transition into kindergarten\n\nJanuary 11th is also the night of our Science Fair\, making this Open House the perfect opportunity to see our school in action! Our students have been hard at work on their science fair projects and they can’t wait to show you what they’ve created. To find a school near you\, visit https://lnkd.in/gAPHyze
URL:https://www.cadence-education.com/event/science-fair-open-house/
ATTACH;FMTTYPE=image/jpeg:https://www.cadence-education.com/wp-content/uploads/2018/01/Science-Fair-Image_1299x419_tag.jpg
END:VEVENT
BEGIN:VEVENT
DTSTART;VALUE=DATE:20180302
DTEND;VALUE=DATE:20180303
DTSTAMP:20260419T091915
CREATED:20180302T222731Z
LAST-MODIFIED:20180302T222731Z
UID:4235-1519948800-1520035199@www.cadence-education.com
SUMMARY:Read Across America Day
DESCRIPTION:Today\, our schools are celebrating Dr. Seuss’s birthday and Read Across America Day. All our schools invited celebrity speakers to read a Dr. Seuss book. Stop by and visit one of your school today to participate in this wonderful event. Find a school near you at https://www.cadence-education.com/locations/.
URL:https://www.cadence-education.com/event/read-across-america-day/
ATTACH;FMTTYPE=image/jpeg:https://www.cadence-education.com/wp-content/uploads/2018/03/Read-Across-America-FB-Post.jpg
END:VEVENT
END:VCALENDAR